BEGIN:VCALENDAR
VERSION:2.0
PRODID:-//wp-events-plugin.com//7.2.3.1//EN
TZID:Europe/Paris
X-WR-TIMEZONE:Europe/Paris
BEGIN:VEVENT
UID:5270@agenda24.fr
DTSTART;TZID=Europe/Paris:20250312T203000
DTEND;TZID=Europe/Paris:20250312T203000
DTSTAMP:20250213T103011Z
URL:https://agenda24.fr/evenements/theatre-la-terre-tremble-2/
SUMMARY:Théâtre – La Terre Tremble
DESCRIPTION:Tokyo. Destination provisoire pour cinq personnages en provenan
 ce des quatre coins du monde. Cinq solitudes en prise avec leurs contradic
 tions et leurs failles\, cinq destine´es paralle`les anime´es par un me^
 me de´sir de fuite\, aspirant a` une autre vie.\n\nSans le savoir\, ils v
 ivront ensemble le tremblement de terre qui bouleversera leur existence. P
 ortrait d’une ge´ne´ration\, ou` l’auteure de´cortique a` la fois l
 ’intime et le syste`me relationnel dans lequel le personnage e´volue : 
 le couple\, la famille\, la socie´te´\, l’occident.\n\nCompose´ comme
  le sce´nario d’un film chorale\, ce texte se joue des codes et navigue
  entre cine´ma et poe´sie contemporaine.
CATEGORIES:Spectacle
LOCATION:Salle culturelle Le Nantholia\, Les Grésilles\, Nantheuil\, Franc
 e
GEO:45.4140510;0.9379740
X-APPLE-STRUCTURED-LOCATION;VALUE=URI;X-ADDRESS=Les Grésilles\, Nantheuil\
 , France;X-APPLE-RADIUS=100;X-TITLE=Salle culturelle Le Nantholia:geo:45.4
 140510,0.9379740
END:VEVENT
BEGIN:VTIMEZONE
TZID:Europe/Paris
X-LIC-LOCATION:Europe/Paris
BEGIN:STANDARD
DTSTART:20241027T020000
TZOFFSETFROM:+0200
TZOFFSETTO:+0100
TZNAME:CET
END:STANDARD
END:VTIMEZONE
END:VCALENDAR