BEGIN:VCALENDAR
VERSION:2.0
PRODID:-//wp-events-plugin.com//7.2.3.1//EN
TZID:Europe/Paris
X-WR-TIMEZONE:Europe/Paris
BEGIN:VEVENT
UID:5273@agenda24.fr
DTSTART;TZID=Europe/Paris:20250301T200000
DTEND;TZID=Europe/Paris:20250301T200000
DTSTAMP:20250213T103003Z
URL:https://agenda24.fr/evenements/theatre-la-souriciere-2/
SUMMARY:Théâtre - La Souricière
DESCRIPTION:La troupe de théâtre L’Art Roquois vous propose un tout nou
 veau spectacle : « La Souricière »\, d’Agatha Christie. \nUne belle o
 ccasion de découvrir ou redécouvrir l’univers captivant de la romanci
 ère britannique. Inspirée d’un fait divers tragique\, la pièce racont
 e l’histoire d’une pension isolée par une chute de neige dans laquell
 e les occupants se retrouvent confrontés à un crime. Le meurtrier pourra
 it être parmi eux\, et l’inquiétude monte à mesure que les tensions s
 e dévoilent.\nRendez-vous le samedi 1er mars à 20h00 à la salle des fê
 tes du Coux. \nEntrée : 10€\nGratuit - 15 ans\nRéservations au 06 70 3
 0 86 57
CATEGORIES:Spectacle
LOCATION:Salle des fêtes\, Place de l'église\, Coux-et-Bigaroque\, France
GEO:44.8316366;0.97410121
X-APPLE-STRUCTURED-LOCATION;VALUE=URI;X-ADDRESS=Place de l'église\, Coux-e
 t-Bigaroque\, France;X-APPLE-RADIUS=100;X-TITLE=Salle des fêtes:geo:44.83
 16366,0.97410121
END:VEVENT
BEGIN:VTIMEZONE
TZID:Europe/Paris
X-LIC-LOCATION:Europe/Paris
BEGIN:STANDARD
DTSTART:20241027T020000
TZOFFSETFROM:+0200
TZOFFSETTO:+0100
TZNAME:CET
END:STANDARD
END:VTIMEZONE
END:VCALENDAR