BEGIN:VCALENDAR
VERSION:2.0
PRODID:-//wp-events-plugin.com//7.2.3.1//EN
TZID:Europe/Paris
X-WR-TIMEZONE:Europe/Paris
BEGIN:VEVENT
UID:3954@agenda24.fr
DTSTART;TZID=Europe/Paris:20241108T180000
DTEND;TZID=Europe/Paris:20241108T180000
DTSTAMP:20241030T091320Z
URL:https://agenda24.fr/evenements/theatre-hommes-et-femmes-du-landais-la-
 suite/
SUMMARY:Théâtre - "Hommes et Femmes du Landais... la suite"
DESCRIPTION:
CATEGORIES:Spectacle
LOCATION:Théâtre de la Poivrière\, 2 place Saint-Astier\, Saint-Astier\,
  France
GEO:45.1453626;0.52919831
X-APPLE-STRUCTURED-LOCATION;VALUE=URI;X-ADDRESS=2 place Saint-Astier\, Sain
 t-Astier\, France;X-APPLE-RADIUS=100;X-TITLE=Théâtre de la Poivrière:ge
 o:45.1453626,0.52919831
END:VEVENT
BEGIN:VTIMEZONE
TZID:Europe/Paris
X-LIC-LOCATION:Europe/Paris
BEGIN:STANDARD
DTSTART:20241027T020000
TZOFFSETFROM:+0200
TZOFFSETTO:+0100
TZNAME:CET
END:STANDARD
END:VTIMEZONE
END:VCALENDAR