BEGIN:VCALENDAR
VERSION:2.0
PRODID:-//wp-events-plugin.com//7.2.3.1//EN
TZID:Europe/Paris
X-WR-TIMEZONE:Europe/Paris
BEGIN:VEVENT
UID:5313@agenda24.fr
DTSTART;TZID=Europe/Paris:20250221T180000
DTEND;TZID=Europe/Paris:20250221T210000
DTSTAMP:20250213T102953Z
URL:https://agenda24.fr/evenements/theatre-heros-hero-heroine/
SUMMARY:Théâtre - Héros\, Héro\, Héroïne…
DESCRIPTION: \n\nNous sommes toutes les héros / les héroïnes de nos vies
 .\n\nNous sommes le fruit de ce qui nous compose.\n\nCe qui nous est trans
 mis.\n\nUne écriture sur la filiation entre générations.\n\nUne travers
 ée des continents de l’Algérie au Périgord \, des années 50 à aujou
 rd’hui.\n\nDe la parole de l’intime\, du grain de poussière vers l’
 universel\, l’humain\, le collectif et le poétique.\n\nLes montées et 
 descentes de ces figures et sans héroïne!\n\nTransmettre l’histoire de
  nos héros /héroïnes sans voiler leurs failles ni leurs fissures.\n\nFa
 ire vibrer les fantômes au Paradis.\n\nEt vous\, quels sont vos héros? V
 os héroïnes ?\n\n\nCie la Cerise sur le gâteau\nDistribution : Ecriture
  et jeu : Juliette Lasserre-Mistaudy - Regard exterieur : Faïza Kaddour\n
 Tarif : entrée libre\n
CATEGORIES:Spectacle
LOCATION:8 Place Faidherbe\, 8 Place Faidherbe\, Périgueux\, France
GEO:45.18327;0.72603
X-APPLE-STRUCTURED-LOCATION;VALUE=URI;X-ADDRESS=8 Place Faidherbe\, Périgu
 eux\, France;X-APPLE-RADIUS=100;X-TITLE=8 Place Faidherbe:geo:45.18327,0.7
 2603
END:VEVENT
BEGIN:VTIMEZONE
TZID:Europe/Paris
X-LIC-LOCATION:Europe/Paris
BEGIN:STANDARD
DTSTART:20241027T020000
TZOFFSETFROM:+0200
TZOFFSETTO:+0100
TZNAME:CET
END:STANDARD
END:VTIMEZONE
END:VCALENDAR