BEGIN:VCALENDAR
VERSION:2.0
PRODID:-//wp-events-plugin.com//7.2.3.1//EN
TZID:Europe/Paris
X-WR-TIMEZONE:Europe/Paris
BEGIN:VEVENT
UID:10826@agenda24.fr
DTSTART;TZID=Europe/Paris:20260314T200000
DTEND;TZID=Europe/Paris:20260314T210000
DTSTAMP:20260227T220246Z
URL:https://agenda24.fr/evenements/theatre-forum-diversite-cie-les-pas-de-
 travers/
SUMMARY:Théâtre-forum Diversité | Cie Les Pas de travers
DESCRIPTION:Un spectacle participatif où le public devient acteur du chang
 ement !\n\nComédiennes : Charline\, Julie\, Isma\, Bouchra\, Jeanne\, Jö
 elle\, Veritsa\n\n&nbsp\;\n\n\n\n&nbsp\;
CATEGORIES:Evènement à thème,Spectacle
LOCATION:Amphithéâtre Jean Moulin\, Médiathèque Pierre Fanlac\, 12 aven
 ue Georges Pompidou\, Périgueux\, France
GEO:45.188725;0.723525
X-APPLE-STRUCTURED-LOCATION;VALUE=URI;X-ADDRESS=Médiathèque Pierre Fanlac
 \, 12 avenue Georges Pompidou\, Périgueux\, France;X-APPLE-RADIUS=100;X-T
 ITLE=Amphithéâtre Jean Moulin:geo:45.188725,0.723525
END:VEVENT
BEGIN:VTIMEZONE
TZID:Europe/Paris
X-LIC-LOCATION:Europe/Paris
BEGIN:STANDARD
DTSTART:20251026T020000
TZOFFSETFROM:+0200
TZOFFSETTO:+0100
TZNAME:CET
END:STANDARD
END:VTIMEZONE
END:VCALENDAR