BEGIN:VCALENDAR
VERSION:2.0
PRODID:-//wp-events-plugin.com//7.2.3.1//EN
TZID:Europe/Paris
X-WR-TIMEZONE:Europe/Paris
BEGIN:VEVENT
UID:5278@agenda24.fr
DTSTART;TZID=Europe/Paris:20250228T203000
DTEND;TZID=Europe/Paris:20250228T203000
DTSTAMP:20250213T103003Z
URL:https://agenda24.fr/evenements/theatre-flagrant-delire-2/
SUMMARY:Théâtre - Flagrant délire !
DESCRIPTION:Les Comédiens de Fascia présentent Flagrant délire\, une com
 édie policière de Jean-Pierre Martinez\, et mise en scène d'Annie Gouti
 ere.\nVente de boissons et pâtisserie sur place.\nSynopsis: un cadavre da
 ns un sauna et une histoire de plagiat. Le Commissaire Navarrin est charg
 é d'une enquête qui semble déboucher sur une affaire d'état. A moins q
 ue tout cela ne soit que du théâtre...
CATEGORIES:Spectacle
LOCATION:Salle multi-activités\, Chemin des Écoliers\, Issigeac\, France
GEO:44.7321166;0.60997786
X-APPLE-STRUCTURED-LOCATION;VALUE=URI;X-ADDRESS=Chemin des Écoliers\, Issi
 geac\, France;X-APPLE-RADIUS=100;X-TITLE=Salle multi-activités:geo:44.732
 1166,0.60997786
END:VEVENT
BEGIN:VTIMEZONE
TZID:Europe/Paris
X-LIC-LOCATION:Europe/Paris
BEGIN:STANDARD
DTSTART:20241027T020000
TZOFFSETFROM:+0200
TZOFFSETTO:+0100
TZNAME:CET
END:STANDARD
END:VTIMEZONE
END:VCALENDAR