BEGIN:VCALENDAR
VERSION:2.0
PRODID:-//wp-events-plugin.com//7.2.3.1//EN
TZID:Europe/Paris
X-WR-TIMEZONE:Europe/Paris
BEGIN:VEVENT
UID:9702@agenda24.fr
DTSTART;TZID=Europe/Paris:20251109T150000
DTEND;TZID=Europe/Paris:20251109T150000
DTSTAMP:20251101T090447Z
URL:https://agenda24.fr/evenements/theatre-et-pendant-ce-temps-simone-veil
 le/
SUMMARY:Théâtre - Et pendant ce temps\, Simone veille !
DESCRIPTION:L’Amicale laïque vous invite dimanche 9 novembre à 15h00 à
  découvrir le tout nouveau spectacle de la Bande à Marie\, troupe de Cas
 telnaud-la-Chapelle : « Et pendant ce temps\, Simone veille »\nTrois lig
 nées de femmes entraînent le public\, sous le regard historico-comique d
 ’une Simone qui veille\, au pays de la Femme. Elles évoluent\, généra
 tion après génération\, de 1950 à nos jours et retracent l'évolution 
 de la condition féminine en France de façon humoristique\, déjantée et
  intelligente !\nUne pièce à ne pas manquer !\nRdv Salle de l’ancienne
  école. 
CATEGORIES:Spectacle
LOCATION:Bourg haut\, Salle de l'ancienne école\, Castelnaud-La-Chapelle\,
  France
GEO:44.8144031;1.14934804
X-APPLE-STRUCTURED-LOCATION;VALUE=URI;X-ADDRESS=Salle de l'ancienne école\
 , Castelnaud-La-Chapelle\, France;X-APPLE-RADIUS=100;X-TITLE=Bourg haut:ge
 o:44.8144031,1.14934804
END:VEVENT
BEGIN:VTIMEZONE
TZID:Europe/Paris
X-LIC-LOCATION:Europe/Paris
BEGIN:STANDARD
DTSTART:20251026T020000
TZOFFSETFROM:+0200
TZOFFSETTO:+0100
TZNAME:CET
END:STANDARD
END:VTIMEZONE
END:VCALENDAR