BEGIN:VCALENDAR
VERSION:2.0
PRODID:-//wp-events-plugin.com//7.2.3.1//EN
TZID:Europe/Paris
X-WR-TIMEZONE:Europe/Paris
BEGIN:VEVENT
UID:9687@agenda24.fr
DTSTART;TZID=Europe/Paris:20251115T210000
DTEND;TZID=Europe/Paris:20251115T210000
DTSTAMP:20251101T090446Z
URL:https://agenda24.fr/evenements/theatre-et-lheureux-elu-est/
SUMMARY:Théâtre - Et l'heureux élu est
DESCRIPTION:L' Amicale Laïque Les Diables Rouges et Côteaux Comédie Club
  vous présentent "Et l'heureux élu est" d'Olivier Tourancheau.\n\nSynops
 is :  "Gabit\, le vieux macho de la commune\, décide de monter une liste 
 en vue des futures élections communales ! Il sera aidé par Gaëlle qui m
 aitrise parfaitement les nouvelles technologies. Il aura en opposition\, G
 igi\, la féministe de souche\, qui sera soutenue par Zaza… la commère 
 de la commune. Mais ils ne vont pas se douter qu’une troisième liste va
  venir perturber leur duel arbitré par Léon\, le propriétaire du bar...
  Et on peut dire que ce nouveau candidat va ajouter pas mal d’huile sur 
 un feu déjà bien brûlant… Qui va avoir le privilège d’être l’he
 ureux élu ?"\n\nSoirée rire et bonne humeur !\n\nSur réservation
CATEGORIES:Spectacle
LOCATION:Salle polyvalente\, Route de Saint Geniès\, La Chapelle-Aubareil\
 , France
GEO:45.0123541;1.200581
X-APPLE-STRUCTURED-LOCATION;VALUE=URI;X-ADDRESS=Route de Saint Geniès\, La
  Chapelle-Aubareil\, France;X-APPLE-RADIUS=100;X-TITLE=Salle polyvalente:g
 eo:45.0123541,1.200581
END:VEVENT
BEGIN:VTIMEZONE
TZID:Europe/Paris
X-LIC-LOCATION:Europe/Paris
BEGIN:STANDARD
DTSTART:20251026T020000
TZOFFSETFROM:+0200
TZOFFSETTO:+0100
TZNAME:CET
END:STANDARD
END:VTIMEZONE
END:VCALENDAR