BEGIN:VCALENDAR
VERSION:2.0
PRODID:-//wp-events-plugin.com//7.2.3.1//EN
TZID:Europe/Paris
X-WR-TIMEZONE:Europe/Paris
BEGIN:VEVENT
UID:8307@agenda24.fr
DTSTART;TZID=Europe/Paris:20250930T200000
DTEND;TZID=Europe/Paris:20250930T213000
DTSTAMP:20250905T122021Z
URL:https://agenda24.fr/evenements/theatre-et-le-coeur-ne-sest-pas-arrete/
SUMMARY:Théâtre - Et le cœur ne s'est pas arrêté
DESCRIPTION:\nPour cette création\, le collectif libanais Kahraba confie l
 a mise en scène à François Cervantes.\nPortée par trois artistes\, cet
 te pièce trace une carte sensible de nos mondes intérieurs\, avec la po
 ésie comme seul refuge face au chaos.\nDeux personnages partagent la mais
 on de Tamara\, ancienne\, fragile. Tout autour\, la guerre gronde. Ils che
 rchent à coexister\, entre nécessité et impossibilité.\n\n
CATEGORIES:Spectacle
LOCATION:Agora - Auditorium\, Avenue de l'Agora\, Boulazac\, 24750\, France
GEO:45.182221;0.761598
X-APPLE-STRUCTURED-LOCATION;VALUE=URI;X-ADDRESS=Avenue de l'Agora\, Boulaza
 c\, 24750\, France;X-APPLE-RADIUS=100;X-TITLE=Agora - Auditorium:geo:45.18
 2221,0.761598
END:VEVENT
BEGIN:VTIMEZONE
TZID:Europe/Paris
X-LIC-LOCATION:Europe/Paris
BEGIN:DAYLIGHT
DTSTART:20250330T030000
TZOFFSETFROM:+0100
TZOFFSETTO:+0200
TZNAME:CEST
END:DAYLIGHT
END:VTIMEZONE
END:VCALENDAR