BEGIN:VCALENDAR
VERSION:2.0
PRODID:-//wp-events-plugin.com//7.2.3.1//EN
TZID:Europe/Paris
X-WR-TIMEZONE:Europe/Paris
BEGIN:VEVENT
UID:5318@agenda24.fr
DTSTART;TZID=Europe/Paris:20250214T210000
DTEND;TZID=Europe/Paris:20250214T210000
DTSTAMP:20250213T102942Z
URL:https://agenda24.fr/evenements/theatre-dites-le-avec-des-fleurs-2/
SUMMARY:Théâtre – Dites-le avec des fleurs
DESCRIPTION:Soirée théâtre avec La Bande à Michel\, pour un spectacle i
 ntitulé "Dites-le avec des fleurs".\n\nTarif : 10€  et gratuit  pour le
 s -moins de 12 ans
CATEGORIES:Spectacle
LOCATION:Espace socio-culturel\, Espace socio-culturel\, Prigonrieux\, Fran
 ce
GEO:44.8551539;0.40238456
X-APPLE-STRUCTURED-LOCATION;VALUE=URI;X-ADDRESS=Espace socio-culturel\, Pri
 gonrieux\, France;X-APPLE-RADIUS=100;X-TITLE=Espace socio-culturel:geo:44.
 8551539,0.40238456
END:VEVENT
BEGIN:VTIMEZONE
TZID:Europe/Paris
X-LIC-LOCATION:Europe/Paris
BEGIN:STANDARD
DTSTART:20241027T020000
TZOFFSETFROM:+0200
TZOFFSETTO:+0100
TZNAME:CET
END:STANDARD
END:VTIMEZONE
END:VCALENDAR