BEGIN:VCALENDAR
VERSION:2.0
PRODID:-//wp-events-plugin.com//7.2.3.1//EN
TZID:Europe/Paris
X-WR-TIMEZONE:Europe/Paris
BEGIN:VEVENT
UID:9704@agenda24.fr
DTSTART;TZID=Europe/Paris:20251114T203000
DTEND;TZID=Europe/Paris:20251114T203000
DTSTAMP:20251101T090448Z
URL:https://agenda24.fr/evenements/theatre-dhumour-comique-a-la-biere-frai
 che/
SUMMARY:Théâtre d'Humour/Comique - A la bière fraîche
DESCRIPTION:Durant la canicule\, un restaurant se voit réquisitionner sa c
 hambre froide pour y déposer un mystérieux cadavre.\n\nLionel\, honnête
  restaurateur\, devrait passer une journée formidable.\n\nCe soir\, il re
 çoit sa belle mère pour la première fois à l'occasion de ses fiançail
 les avec Amandine. C'est alors que le sous-préfet décide\, en raison de 
 la canicule de réquisitionner la chambre froide du restaurant de Lionel p
 our suppléer les pompes funèbres. \n\nUn(e) ecclésiastique\, un client 
 idiot\, la secrétaire de cabinet du sous préfet et un agent des services
  d'hygiène vont faire de cette journée un enfer. Une belle et solide dos
 e d'humour portée par l'atelier de théâtre chanceladais\, la Récréati
 on. Soirée pour petits et plus grands en exclusivité à Chancelade. \n\n
 Prix unique : 10 €
CATEGORIES:Spectacle
LOCATION:Espace Culturel et Evénementiel\, Rue des Libertés\, Chancelade\
 , France
GEO:45.2022823;0.6663123
X-APPLE-STRUCTURED-LOCATION;VALUE=URI;X-ADDRESS=Rue des Libertés\, Chancel
 ade\, France;X-APPLE-RADIUS=100;X-TITLE=Espace Culturel et Evénementiel:g
 eo:45.2022823,0.6663123
END:VEVENT
BEGIN:VTIMEZONE
TZID:Europe/Paris
X-LIC-LOCATION:Europe/Paris
BEGIN:STANDARD
DTSTART:20251026T020000
TZOFFSETFROM:+0200
TZOFFSETTO:+0100
TZNAME:CET
END:STANDARD
END:VTIMEZONE
END:VCALENDAR