BEGIN:VCALENDAR
VERSION:2.0
PRODID:-//wp-events-plugin.com//7.2.3.1//EN
TZID:Europe/Paris
X-WR-TIMEZONE:Europe/Paris
BEGIN:VEVENT
UID:5323@agenda24.fr
DTSTART;TZID=Europe/Paris:20250215T210000
DTEND;TZID=Europe/Paris:20250215T210000
DTSTAMP:20250213T102942Z
URL:https://agenda24.fr/evenements/theatre-de-poche-vent-de-beune-a-sarlat
 /
SUMMARY:Théâtre de poche "Vent de Beune" à Sarlat
DESCRIPTION:Théatre de poche "Vent de Beune" à Sarlat conté par Daniel C
 havaroche.\n\nLe 15 février à 21h.\nTarif plein : 12€\nTarif adhérent
 s : 10€\nDemadeur d'emploi et -12 ans : 5€\n\nRéservations au 06 32 3
 6 69 66.\n
CATEGORIES:Spectacle
LOCATION:31/33 Bvd Eugène Le Roy\, 31/33 Bvd Eugène Le Roy\, Sarlat-La-Ca
 néda\, France
GEO:44.8908910;1.2172920
X-APPLE-STRUCTURED-LOCATION;VALUE=URI;X-ADDRESS=31/33 Bvd Eugène Le Roy\, 
 Sarlat-La-Canéda\, France;X-APPLE-RADIUS=100;X-TITLE=31/33 Bvd Eugène Le
  Roy:geo:44.8908910,1.2172920
END:VEVENT
BEGIN:VTIMEZONE
TZID:Europe/Paris
X-LIC-LOCATION:Europe/Paris
BEGIN:STANDARD
DTSTART:20241027T020000
TZOFFSETFROM:+0200
TZOFFSETTO:+0100
TZNAME:CET
END:STANDARD
END:VTIMEZONE
END:VCALENDAR