BEGIN:VCALENDAR
VERSION:2.0
PRODID:-//wp-events-plugin.com//7.2.3.1//EN
TZID:Europe/Paris
X-WR-TIMEZONE:Europe/Paris
BEGIN:VEVENT
UID:5281@agenda24.fr
DTSTART;TZID=Europe/Paris:20250314T190000
DTEND;TZID=Europe/Paris:20250314T190000
DTSTAMP:20250213T103002Z
URL:https://agenda24.fr/evenements/theatre-blanche-biche/
SUMMARY:Théâtre - Blanche Biche
DESCRIPTION:"Oyez\, oyez ! Posez donc vos yeux sur ce petit village de chas
 seurs\, juste à la lisière de la forêt ! On y coulait des jours si doux
 . Les chasseurs du coin revenaient parfois avec quelques victuailles braco
 nnées ça et là\, et surtout des histoires pétillant dans leurs yeux\, 
 quand ils avaient eu la chance d'entrevoir la Blanche Biche\, l'animal mag
 ique de la forêt\, la protectrice du village ! Mais pour certains les his
 toires ne remplissent pas l'estomac\, et voyez ce jeune homme qui descend 
 de la diligence... Il nous revient\, après des années passées au loin !
  Le voilà armé des savoirs et des certitudes de l'Homme Moderne. On dit 
 qu'il s'est juré de faire rentrer son vieux village dans une nouvelle èr
 e ! Loin des fadaises mystiques de jadis\, il va faire marcher tout le mon
 de vers l'opulence et la grandeur\, vers la RAISON !"\nProposé par la Com
 pagnie Ravage.\nÀ partir de 12 ans.
CATEGORIES:Spectacle
LOCATION:Espace culturel L'Éden\, Avenue de la Bastide\, Eymet\, France
GEO:44.6686917;0.39767896
X-APPLE-STRUCTURED-LOCATION;VALUE=URI;X-ADDRESS=Avenue de la Bastide\, Eyme
 t\, France;X-APPLE-RADIUS=100;X-TITLE=Espace culturel L'Éden:geo:44.66869
 17,0.39767896
END:VEVENT
BEGIN:VTIMEZONE
TZID:Europe/Paris
X-LIC-LOCATION:Europe/Paris
BEGIN:STANDARD
DTSTART:20241027T020000
TZOFFSETFROM:+0200
TZOFFSETTO:+0100
TZNAME:CET
END:STANDARD
END:VTIMEZONE
END:VCALENDAR