BEGIN:VCALENDAR
VERSION:2.0
PRODID:-//wp-events-plugin.com//7.2.3.1//EN
TZID:Europe/Paris
X-WR-TIMEZONE:Europe/Paris
BEGIN:VEVENT
UID:5322@agenda24.fr
DTSTART;TZID=Europe/Paris:20250315T210000
DTEND;TZID=Europe/Paris:20250315T210000
DTSTAMP:20250213T102942Z
URL:https://agenda24.fr/evenements/theatre-baroque-apollon-et-daphne/
SUMMARY:Théâtre baroque - Apollon et Daphné
DESCRIPTION:Des années avant l'opéra comique\, Charles Dassoucy invente u
 ne œuvre unique — qui donne lieu à un spectacle exceptionnel\, inspir
 é des Métamorphoses d'Ovide — mêlant théâtre\, chant et musique ins
 trumentale\, le tout dans des costumes somptueux\, éclairés à la bougie
 . Une comédie baroque irrésistible et éblouissante.\n\nAvec Maxime Arda
 nt\, Saraé Durest\, Charles Di Meglio et Marie-Françoise Bloch (viole de
  gambe)
CATEGORIES:Spectacle
LOCATION:Place de la mairie\, 1 place Simone Veil\, Rouffignac-Saint-Cernin
 -de-Reilhac\, France
GEO:45.04738;0.97886
X-APPLE-STRUCTURED-LOCATION;VALUE=URI;X-ADDRESS=1 place Simone Veil\, Rouff
 ignac-Saint-Cernin-de-Reilhac\, France;X-APPLE-RADIUS=100;X-TITLE=Place de
  la mairie:geo:45.04738,0.97886
END:VEVENT
BEGIN:VTIMEZONE
TZID:Europe/Paris
X-LIC-LOCATION:Europe/Paris
BEGIN:STANDARD
DTSTART:20241027T020000
TZOFFSETFROM:+0200
TZOFFSETTO:+0100
TZNAME:CET
END:STANDARD
END:VTIMEZONE
END:VCALENDAR