BEGIN:VCALENDAR
VERSION:2.0
PRODID:-//wp-events-plugin.com//7.2.3.1//EN
TZID:Europe/Paris
X-WR-TIMEZONE:Europe/Paris
BEGIN:VEVENT
UID:5312@agenda24.fr
DTSTART;TZID=Europe/Paris:20250213T200000
DTEND;TZID=Europe/Paris:20250213T210000
DTSTAMP:20250213T102953Z
URL:https://agenda24.fr/evenements/theatre-ad-vitam-capitales-1/
SUMMARY:Théâtre - Ad Vitam - Capitales #1
DESCRIPTION: Un homme quitte la France pour se prouver qu’il est capable 
 d’entreprendre quelque chose dans vie. Direction la Lituanie\, sa premi
 ère étape.\nÀ peine arrivé à Vilnius\, il se cloître dans le studio 
 Airbnb qu’il a loué. Il reste là à cogiter\, anonyme et affalé sur l
 e canapé\, jusqu’à l’apparition de Penija\, une enfant lituanienne d
 e 81 ans qui le surnommera Fishel.\nColocataires forcés\, ils commencent 
 un dialogue de sourds qui les mènera vers le chemin de leur résilience m
 utuelle\, ravivant la mémoire de l’une et transformant la perception de
  la vie de l’autre.\n\nVoyager sans bouger est un des objectifs de cette
  création qui interroge notre rapport au temps\, à l’invisible\, à no
 tre manière d’appréhender la vie au quotidien.\n\n
CATEGORIES:Spectacle
LOCATION:8 Place Faidherbe\, 8 Place Faidherbe\, Périgueux\, France
GEO:45.18327;0.72603
X-APPLE-STRUCTURED-LOCATION;VALUE=URI;X-ADDRESS=8 Place Faidherbe\, Périgu
 eux\, France;X-APPLE-RADIUS=100;X-TITLE=8 Place Faidherbe:geo:45.18327,0.7
 2603
END:VEVENT
BEGIN:VTIMEZONE
TZID:Europe/Paris
X-LIC-LOCATION:Europe/Paris
BEGIN:STANDARD
DTSTART:20241027T020000
TZOFFSETFROM:+0200
TZOFFSETTO:+0100
TZNAME:CET
END:STANDARD
END:VTIMEZONE
END:VCALENDAR