BEGIN:VCALENDAR
VERSION:2.0
PRODID:-//wp-events-plugin.com//7.2.3.1//EN
TZID:Europe/Paris
X-WR-TIMEZONE:Europe/Paris
BEGIN:VEVENT
UID:5284@agenda24.fr
DTSTART;TZID=Europe/Paris:20250314T203000
DTEND;TZID=Europe/Paris:20250314T223000
DTSTAMP:20250213T103002Z
URL:https://agenda24.fr/evenements/theatre-3/
SUMMARY:Théâtre
DESCRIPTION:Théâtre par le Secours Populaire
CATEGORIES:Spectacle
LOCATION:Foyer Municipal\, rue Henri Laborde\, Montpon-Ménestérol\, Franc
 e
GEO:45.0086763;0.16032874
X-APPLE-STRUCTURED-LOCATION;VALUE=URI;X-ADDRESS=rue Henri Laborde\, Montpon
 -Ménestérol\, France;X-APPLE-RADIUS=100;X-TITLE=Foyer Municipal:geo:45.0
 086763,0.16032874
END:VEVENT
BEGIN:VTIMEZONE
TZID:Europe/Paris
X-LIC-LOCATION:Europe/Paris
BEGIN:STANDARD
DTSTART:20241027T020000
TZOFFSETFROM:+0200
TZOFFSETTO:+0100
TZNAME:CET
END:STANDARD
END:VTIMEZONE
END:VCALENDAR