BEGIN:VCALENDAR
VERSION:2.0
PRODID:-//wp-events-plugin.com//7.2.3.1//EN
TZID:Europe/Paris
X-WR-TIMEZONE:Europe/Paris
BEGIN:VEVENT
UID:9677@agenda24.fr
DTSTART;TZID=Europe/Paris:20251116T143000
DTEND;TZID=Europe/Paris:20251116T143000
DTSTAMP:20251101T090410Z
URL:https://agenda24.fr/evenements/the-dansant-du-lions-club/
SUMMARY:Thé dansant du Lions Club
DESCRIPTION:Thé dansant – Organisé par le Lions Club au profit des œuv
 res sociales pour le cancer animé par Jean-Noël Caron à 14h30 -  12 €
  au foyer rural sur réservation - 05 53 82 23 77\n
CATEGORIES:Soirées dansantes
LOCATION:Foyer Rural\, Foyer Rural\, Menesplet\, France
GEO:45.0164771;0.10735242
X-APPLE-STRUCTURED-LOCATION;VALUE=URI;X-ADDRESS=Foyer Rural\, Menesplet\, F
 rance;X-APPLE-RADIUS=100;X-TITLE=Foyer Rural:geo:45.0164771,0.10735242
END:VEVENT
BEGIN:VTIMEZONE
TZID:Europe/Paris
X-LIC-LOCATION:Europe/Paris
BEGIN:STANDARD
DTSTART:20251026T020000
TZOFFSETFROM:+0200
TZOFFSETTO:+0100
TZNAME:CET
END:STANDARD
END:VTIMEZONE
END:VCALENDAR