BEGIN:VCALENDAR
VERSION:2.0
PRODID:-//wp-events-plugin.com//7.2.3.1//EN
TZID:Europe/Paris
X-WR-TIMEZONE:Europe/Paris
BEGIN:VEVENT
UID:4027@agenda24.fr
DTSTART;TZID=Europe/Paris:20241208T143000
DTEND;TZID=Europe/Paris:20241208T143000
DTSTAMP:20241030T091147Z
URL:https://agenda24.fr/evenements/the-dansant-de-noel/
SUMMARY:Thé dansant de Noël
DESCRIPTION:
CATEGORIES:Soirées dansantes
LOCATION:Salle des fêtes\, Salle des fêtes\, Lacropte\, France
GEO:45.0364245;0.83135992
X-APPLE-STRUCTURED-LOCATION;VALUE=URI;X-ADDRESS=Salle des fêtes\, Lacropte
 \, France;X-APPLE-RADIUS=100;X-TITLE=Salle des fêtes:geo:45.0364245,0.831
 35992
END:VEVENT
BEGIN:VTIMEZONE
TZID:Europe/Paris
X-LIC-LOCATION:Europe/Paris
BEGIN:STANDARD
DTSTART:20241027T020000
TZOFFSETFROM:+0200
TZOFFSETTO:+0100
TZNAME:CET
END:STANDARD
END:VTIMEZONE
END:VCALENDAR