BEGIN:VCALENDAR
VERSION:2.0
PRODID:-//wp-events-plugin.com//7.2.3.1//EN
TZID:Europe/Paris
X-WR-TIMEZONE:Europe/Paris
BEGIN:VEVENT
UID:4028@agenda24.fr
DTSTART;TZID=Europe/Paris:20241124T143000
DTEND;TZID=Europe/Paris:20241124T143000
DTSTAMP:20241030T091146Z
URL:https://agenda24.fr/evenements/the-dansant-avec-gilou-musette-2/
SUMMARY:Thé dansant avec Gilou Musette
DESCRIPTION:
CATEGORIES:Soirées dansantes
LOCATION:Salle Jacques Brel\, Avenue du Général Leclerc\, Lalinde\, Franc
 e
GEO:44.8389540;0.7403000
X-APPLE-STRUCTURED-LOCATION;VALUE=URI;X-ADDRESS=Avenue du Général Leclerc
 \, Lalinde\, France;X-APPLE-RADIUS=100;X-TITLE=Salle Jacques Brel:geo:44.8
 389540,0.7403000
END:VEVENT
BEGIN:VTIMEZONE
TZID:Europe/Paris
X-LIC-LOCATION:Europe/Paris
BEGIN:STANDARD
DTSTART:20241027T020000
TZOFFSETFROM:+0200
TZOFFSETTO:+0100
TZNAME:CET
END:STANDARD
END:VTIMEZONE
END:VCALENDAR