BEGIN:VCALENDAR
VERSION:2.0
PRODID:-//wp-events-plugin.com//7.2.3.1//EN
TZID:Europe/Paris
X-WR-TIMEZONE:Europe/Paris
BEGIN:VEVENT
UID:9676@agenda24.fr
DTSTART;TZID=Europe/Paris:20251116T143000
DTEND;TZID=Europe/Paris:20251116T143000
DTSTAMP:20251101T090410Z
URL:https://agenda24.fr/evenements/the-dansant-avec-gilles-saby/
SUMMARY:Thé dansant avec Gilles Saby
DESCRIPTION:Thé dansant organisé par les Danseurs Dordognais\, animé par
  Gilles Saby.\nNous vous attendons nombreux sur la piste de danse !
CATEGORIES:Soirées dansantes
LOCATION:Salle Jacques Brel\, Avenue du Général Leclerc\, Lalinde\, Franc
 e
GEO:44.838954;0.7403
X-APPLE-STRUCTURED-LOCATION;VALUE=URI;X-ADDRESS=Avenue du Général Leclerc
 \, Lalinde\, France;X-APPLE-RADIUS=100;X-TITLE=Salle Jacques Brel:geo:44.8
 38954,0.7403
END:VEVENT
BEGIN:VTIMEZONE
TZID:Europe/Paris
X-LIC-LOCATION:Europe/Paris
BEGIN:STANDARD
DTSTART:20251026T020000
TZOFFSETFROM:+0200
TZOFFSETTO:+0100
TZNAME:CET
END:STANDARD
END:VTIMEZONE
END:VCALENDAR