BEGIN:VCALENDAR
VERSION:2.0
PRODID:-//wp-events-plugin.com//7.2.3.1//EN
TZID:Europe/Paris
X-WR-TIMEZONE:Europe/Paris
BEGIN:VEVENT
UID:5265@agenda24.fr
DTSTART;TZID=Europe/Paris:20250216T143000
DTEND;TZID=Europe/Paris:20250216T143000
DTSTAMP:20250213T103011Z
URL:https://agenda24.fr/evenements/the-dansant-au-bugue-2/
SUMMARY:Thé dansant au Bugue
DESCRIPTION:Thé dansant organisé par le groupe folklorique Les Cardilloux
  et animé par Francis Devaux.\n\nSur réservation.
CATEGORIES:Soirées dansantes
LOCATION:Salle Eugène Le Roy\, Allée Paul Jean Souriau\, le Bugue\, Franc
 e
GEO:44.9098892;0.93183402
X-APPLE-STRUCTURED-LOCATION;VALUE=URI;X-ADDRESS=Allée Paul Jean Souriau\, 
 le Bugue\, France;X-APPLE-RADIUS=100;X-TITLE=Salle Eugène Le Roy:geo:44.9
 098892,0.93183402
END:VEVENT
BEGIN:VTIMEZONE
TZID:Europe/Paris
X-LIC-LOCATION:Europe/Paris
BEGIN:STANDARD
DTSTART:20241027T020000
TZOFFSETFROM:+0200
TZOFFSETTO:+0100
TZNAME:CET
END:STANDARD
END:VTIMEZONE
END:VCALENDAR