BEGIN:VCALENDAR
VERSION:2.0
PRODID:-//wp-events-plugin.com//7.2.3.1//EN
TZID:Europe/Paris
X-WR-TIMEZONE:Europe/Paris
BEGIN:VEVENT
UID:4020@agenda24.fr
DTSTART;TZID=Europe/Paris:20241117T143000
DTEND;TZID=Europe/Paris:20241117T193000
DTSTAMP:20241030T091147Z
URL:https://agenda24.fr/evenements/the-dansant-8/
SUMMARY:Thé dansant
DESCRIPTION:
CATEGORIES:Soirées dansantes
LOCATION:La Fabrique\, Rue Amiral Courbet\, Saint-Astier\, France
GEO:45.1448857;0.52670173
X-APPLE-STRUCTURED-LOCATION;VALUE=URI;X-ADDRESS=Rue Amiral Courbet\, Saint-
 Astier\, France;X-APPLE-RADIUS=100;X-TITLE=La Fabrique:geo:45.1448857,0.52
 670173
END:VEVENT
BEGIN:VTIMEZONE
TZID:Europe/Paris
X-LIC-LOCATION:Europe/Paris
BEGIN:STANDARD
DTSTART:20241027T020000
TZOFFSETFROM:+0200
TZOFFSETTO:+0100
TZNAME:CET
END:STANDARD
END:VTIMEZONE
END:VCALENDAR