BEGIN:VCALENDAR
VERSION:2.0
PRODID:-//wp-events-plugin.com//7.2.3.1//EN
TZID:Europe/Paris
X-WR-TIMEZONE:Europe/Paris
BEGIN:VEVENT
UID:4025@agenda24.fr
DTSTART;TZID=Europe/Paris:20241215T143000
DTEND;TZID=Europe/Paris:20241215T143000
DTSTAMP:20241030T091139Z
URL:https://agenda24.fr/evenements/the-dansant-6/
SUMMARY:Thé dansant
DESCRIPTION:
CATEGORIES:Soirées dansantes
LOCATION:Salle des fêtes\, Salle des fêtes\, Saint-Romain-et-Saint-Clemen
 t\, France
GEO:45.424424;0.86152500
X-APPLE-STRUCTURED-LOCATION;VALUE=URI;X-ADDRESS=Salle des fêtes\, Saint-Ro
 main-et-Saint-Clement\, France;X-APPLE-RADIUS=100;X-TITLE=Salle des fêtes
 :geo:45.424424,0.86152500
END:VEVENT
BEGIN:VTIMEZONE
TZID:Europe/Paris
X-LIC-LOCATION:Europe/Paris
BEGIN:STANDARD
DTSTART:20241027T020000
TZOFFSETFROM:+0200
TZOFFSETTO:+0100
TZNAME:CET
END:STANDARD
END:VTIMEZONE
END:VCALENDAR