BEGIN:VCALENDAR
VERSION:2.0
PRODID:-//wp-events-plugin.com//7.2.3.1//EN
TZID:Europe/Paris
X-WR-TIMEZONE:Europe/Paris
BEGIN:VEVENT
UID:9674@agenda24.fr
DTSTART;TZID=Europe/Paris:20251111T143000
DTEND;TZID=Europe/Paris:20251111T143000
DTSTAMP:20251101T090410Z
URL:https://agenda24.fr/evenements/the-dansant-25/
SUMMARY:Thé dansant
DESCRIPTION:Thé dansant animé par le trio Nathalie Legay. 16h30: collatio
 n offerte. 18h45: casse-croûte périgourdin offert à tous! Buvette sur p
 lace. Café offert et à volonté en libre service. 
CATEGORIES:Soirées dansantes
LOCATION:Salle du Dolmen\, Peyrelevade\, Brantôme\, France
GEO:45.3619455;0.66437774
X-APPLE-STRUCTURED-LOCATION;VALUE=URI;X-ADDRESS=Peyrelevade\, Brantôme\, F
 rance;X-APPLE-RADIUS=100;X-TITLE=Salle du Dolmen:geo:45.3619455,0.66437774
END:VEVENT
BEGIN:VTIMEZONE
TZID:Europe/Paris
X-LIC-LOCATION:Europe/Paris
BEGIN:STANDARD
DTSTART:20251026T020000
TZOFFSETFROM:+0200
TZOFFSETTO:+0100
TZNAME:CET
END:STANDARD
END:VTIMEZONE
END:VCALENDAR