BEGIN:VCALENDAR
VERSION:2.0
PRODID:-//wp-events-plugin.com//7.2.3.1//EN
TZID:Europe/Paris
X-WR-TIMEZONE:Europe/Paris
BEGIN:VEVENT
UID:9673@agenda24.fr
DTSTART;TZID=Europe/Paris:20251123T143000
DTEND;TZID=Europe/Paris:20251123T193000
DTSTAMP:20251101T090410Z
URL:https://agenda24.fr/evenements/the-dansant-24/
SUMMARY:Thé dansant
DESCRIPTION:Thé dansant au centre culturel La Fabrique de 14h30 à 19h30\n
 Orchestre Ambiance.\n\nTarif d’entrée : 12 €\n\nComité des fêtes 06
  08 01 56 01 / 06 13 08 12 81 \n
CATEGORIES:Soirées dansantes
LOCATION:La Fabrique\, Rue Amiral Courbet\, Saint-Astier\, France
GEO:45.144897;0.52668563
X-APPLE-STRUCTURED-LOCATION;VALUE=URI;X-ADDRESS=Rue Amiral Courbet\, Saint-
 Astier\, France;X-APPLE-RADIUS=100;X-TITLE=La Fabrique:geo:45.144897,0.526
 68563
END:VEVENT
BEGIN:VTIMEZONE
TZID:Europe/Paris
X-LIC-LOCATION:Europe/Paris
BEGIN:STANDARD
DTSTART:20251026T020000
TZOFFSETFROM:+0200
TZOFFSETTO:+0100
TZNAME:CET
END:STANDARD
END:VTIMEZONE
END:VCALENDAR