BEGIN:VCALENDAR
VERSION:2.0
PRODID:-//wp-events-plugin.com//7.2.3.1//EN
TZID:Europe/Paris
X-WR-TIMEZONE:Europe/Paris
BEGIN:VEVENT
UID:9662@agenda24.fr
DTSTART;TZID=Europe/Paris:20251130T143000
DTEND;TZID=Europe/Paris:20251130T143000
DTSTAMP:20251101T090408Z
URL:https://agenda24.fr/evenements/the-dansant-23/
SUMMARY:Thé dansant
DESCRIPTION:Thé dansant avec l'orchestre Jean Pierre Roy. Buvette\, gâtea
 ux et kir ou jus offert pendant l'entracte
CATEGORIES:Soirées dansantes
LOCATION:Le Nantholia\, Chemin les Grésilles\, Nantheuil\, France
GEO:45.41563;0.94301
X-APPLE-STRUCTURED-LOCATION;VALUE=URI;X-ADDRESS=Chemin les Grésilles\, Nan
 theuil\, France;X-APPLE-RADIUS=100;X-TITLE=Le Nantholia:geo:45.41563,0.943
 01
END:VEVENT
BEGIN:VTIMEZONE
TZID:Europe/Paris
X-LIC-LOCATION:Europe/Paris
BEGIN:STANDARD
DTSTART:20251026T020000
TZOFFSETFROM:+0200
TZOFFSETTO:+0100
TZNAME:CET
END:STANDARD
END:VTIMEZONE
END:VCALENDAR