BEGIN:VCALENDAR
VERSION:2.0
PRODID:-//wp-events-plugin.com//7.2.3.1//EN
TZID:Europe/Paris
X-WR-TIMEZONE:Europe/Paris
BEGIN:VEVENT
UID:5263@agenda24.fr
DTSTART;TZID=Europe/Paris:20250309T143000
DTEND;TZID=Europe/Paris:20250309T180000
DTSTAMP:20250213T103012Z
URL:https://agenda24.fr/evenements/the-dansant-17/
SUMMARY:Thé Dansant
DESCRIPTION:de 14h30 à 18h30 à la Salle des Fêtes\nAnimation Julien\nEnt
 rée 12€ avec une patisserie\nRéservation obligatoire au 02 mars\nTél 
 06 36 99 31 70
CATEGORIES:Soirées dansantes
LOCATION:Salle des fêtes\, Salle des fêtes\, Terrasson-Lavilledieu\, Fran
 ce
GEO:45.12977;1.30233
X-APPLE-STRUCTURED-LOCATION;VALUE=URI;X-ADDRESS=Salle des fêtes\, Terrasso
 n-Lavilledieu\, France;X-APPLE-RADIUS=100;X-TITLE=Salle des fêtes:geo:45.
 12977,1.30233
END:VEVENT
BEGIN:VTIMEZONE
TZID:Europe/Paris
X-LIC-LOCATION:Europe/Paris
BEGIN:STANDARD
DTSTART:20241027T020000
TZOFFSETFROM:+0200
TZOFFSETTO:+0100
TZNAME:CET
END:STANDARD
END:VTIMEZONE
END:VCALENDAR