BEGIN:VCALENDAR
VERSION:2.0
PRODID:-//wp-events-plugin.com//7.2.3.1//EN
TZID:Europe/Paris
X-WR-TIMEZONE:Europe/Paris
BEGIN:VEVENT
UID:5264@agenda24.fr
DTSTART;TZID=Europe/Paris:20250216T143000
DTEND;TZID=Europe/Paris:20250216T143000
DTSTAMP:20250213T103011Z
URL:https://agenda24.fr/evenements/the-dansant-14/
SUMMARY:Thé dansant
DESCRIPTION:Thé dansant avec Génération Musette à 14h30\, salle Gerbeau
 d. \nTarif: 12€/pers (goûter et tourin inclus). \nRés: 06 50 36 36 57.
  Comité des fêtes\n
CATEGORIES:Soirées dansantes
LOCATION:Salle Gerbeaud\, Salle Gerbeaud\, Mussidan\, France
GEO:45.0351933;0.36837327
X-APPLE-STRUCTURED-LOCATION;VALUE=URI;X-ADDRESS=Salle Gerbeaud\, Mussidan\,
  France;X-APPLE-RADIUS=100;X-TITLE=Salle Gerbeaud:geo:45.0351933,0.3683732
 7
END:VEVENT
BEGIN:VTIMEZONE
TZID:Europe/Paris
X-LIC-LOCATION:Europe/Paris
BEGIN:STANDARD
DTSTART:20241027T020000
TZOFFSETFROM:+0200
TZOFFSETTO:+0100
TZNAME:CET
END:STANDARD
END:VTIMEZONE
END:VCALENDAR