BEGIN:VCALENDAR
VERSION:2.0
PRODID:-//wp-events-plugin.com//7.2.3.1//EN
TZID:Europe/Paris
X-WR-TIMEZONE:Europe/Paris
BEGIN:VEVENT
UID:3978@agenda24.fr
DTSTART;TZID=Europe/Paris:20241130T163000
DTEND;TZID=Europe/Paris:20241130T163000
DTSTAMP:20241030T091245Z
URL:https://agenda24.fr/evenements/telethon-theatre/
SUMMARY:Téléthon - Théâtre
DESCRIPTION:
CATEGORIES:Spectacle
LOCATION:Salle des fêtes\, Salle des fêtes\, Saint-Seurin-de-Prats\, Fran
 ce
GEO:44.8267;0.06168
X-APPLE-STRUCTURED-LOCATION;VALUE=URI;X-ADDRESS=Salle des fêtes\, Saint-Se
 urin-de-Prats\, France;X-APPLE-RADIUS=100;X-TITLE=Salle des fêtes:geo:44.
 8267,0.06168
END:VEVENT
BEGIN:VTIMEZONE
TZID:Europe/Paris
X-LIC-LOCATION:Europe/Paris
BEGIN:STANDARD
DTSTART:20241027T020000
TZOFFSETFROM:+0200
TZOFFSETTO:+0100
TZNAME:CET
END:STANDARD
END:VTIMEZONE
END:VCALENDAR