BEGIN:VCALENDAR
VERSION:2.0
PRODID:-//wp-events-plugin.com//7.2.3.1//EN
TZID:Europe/Paris
X-WR-TIMEZONE:Europe/Paris
BEGIN:VEVENT
UID:3896@agenda24.fr
DTSTART;TZID=Europe/Paris:20241123T180000
DTEND;TZID=Europe/Paris:20241123T180000
DTSTAMP:20241030T085618Z
URL:https://agenda24.fr/evenements/telethon-soiree-jeux/
SUMMARY:Téléthon - soirée jeux
DESCRIPTION:
CATEGORIES:Jeux
LOCATION:Salle des fêtes\, Salle des fêtes\, Villefranche-de-Lonchat\, Fr
 ance
GEO:44.94833;0.05927
X-APPLE-STRUCTURED-LOCATION;VALUE=URI;X-ADDRESS=Salle des fêtes\, Villefra
 nche-de-Lonchat\, France;X-APPLE-RADIUS=100;X-TITLE=Salle des fêtes:geo:4
 4.94833,0.05927
END:VEVENT
BEGIN:VTIMEZONE
TZID:Europe/Paris
X-LIC-LOCATION:Europe/Paris
BEGIN:STANDARD
DTSTART:20241027T020000
TZOFFSETFROM:+0200
TZOFFSETTO:+0100
TZNAME:CET
END:STANDARD
END:VTIMEZONE
END:VCALENDAR