BEGIN:VCALENDAR
VERSION:2.0
PRODID:-//wp-events-plugin.com//7.2.3.1//EN
TZID:Europe/Paris
X-WR-TIMEZONE:Europe/Paris
BEGIN:VEVENT
UID:3859@agenda24.fr
DTSTART;TZID=Europe/Paris:20241208T090000
DTEND;TZID=Europe/Paris:20241208T090000
DTSTAMP:20241030T085653Z
URL:https://agenda24.fr/evenements/telethon-rando-et-bar-a-soupes/
SUMMARY:Téléthon - Rando et bar à soupes
DESCRIPTION:
CATEGORIES:Evènement à thème
LOCATION:Salle des fêtes\, Salle des fêtes\, Bonneville-et-Saint-Avit-de-
 Fumadieres\, France
GEO:44.88254;0.08016
X-APPLE-STRUCTURED-LOCATION;VALUE=URI;X-ADDRESS=Salle des fêtes\, Bonnevil
 le-et-Saint-Avit-de-Fumadieres\, France;X-APPLE-RADIUS=100;X-TITLE=Salle d
 es fêtes:geo:44.88254,0.08016
END:VEVENT
BEGIN:VTIMEZONE
TZID:Europe/Paris
X-LIC-LOCATION:Europe/Paris
BEGIN:STANDARD
DTSTART:20241027T020000
TZOFFSETFROM:+0200
TZOFFSETTO:+0100
TZNAME:CET
END:STANDARD
END:VTIMEZONE
END:VCALENDAR