BEGIN:VCALENDAR
VERSION:2.0
PRODID:-//wp-events-plugin.com//7.2.3.1//EN
TZID:Europe/Paris
X-WR-TIMEZONE:Europe/Paris
BEGIN:VEVENT
UID:3886@agenda24.fr
DTSTART;TZID=Europe/Paris:20241207T110000
DTEND;TZID=Europe/Paris:20241207T150000
DTSTAMP:20241030T085627Z
URL:https://agenda24.fr/evenements/telethon-degustation-musique-et-exposit
 ion/
SUMMARY:Téléthon - dégustation\, musique et exposition
DESCRIPTION:
CATEGORIES:Evènement à thème
LOCATION:Le Bourg\, Le Bourg\, Saint-Geraud-de-Corps\, France
GEO:44.952239;0.2263
X-APPLE-STRUCTURED-LOCATION;VALUE=URI;X-ADDRESS=Le Bourg\, Saint-Geraud-de-
 Corps\, France;X-APPLE-RADIUS=100;X-TITLE=Le Bourg:geo:44.952239,0.2263
END:VEVENT
BEGIN:VTIMEZONE
TZID:Europe/Paris
X-LIC-LOCATION:Europe/Paris
BEGIN:STANDARD
DTSTART:20241027T020000
TZOFFSETFROM:+0200
TZOFFSETTO:+0100
TZNAME:CET
END:STANDARD
END:VTIMEZONE
END:VCALENDAR