BEGIN:VCALENDAR
VERSION:2.0
PRODID:-//wp-events-plugin.com//7.2.3.1//EN
TZID:Europe/Paris
X-WR-TIMEZONE:Europe/Paris
BEGIN:VEVENT
UID:9656@agenda24.fr
DTSTART;TZID=Europe/Paris:20251207T090000
DTEND;TZID=Europe/Paris:20251207T090000
DTSTAMP:20251101T090333Z
URL:https://agenda24.fr/evenements/telethon-cantonal-stand-de-lamicale-des
 -sapeurs-pompiers/
SUMMARY:Téléthon Cantonal | Stand de l’Amicale des Sapeurs Pompiers
DESCRIPTION:Lors de la rando du 7 décembre l’Amicale des Sapeurs Pompier
 s tiendra un stand avec les JSP avec vente de porte clés.
CATEGORIES:Rencontre / Conférence / Discussion
LOCATION:Salle des fêtes\, Salle des Fêtes\, Saint-Meard-de-Gurcon\, Fran
 ce
GEO:44.909079;0.182757
X-APPLE-STRUCTURED-LOCATION;VALUE=URI;X-ADDRESS=Salle des Fêtes\, Saint-Me
 ard-de-Gurcon\, France;X-APPLE-RADIUS=100;X-TITLE=Salle des fêtes:geo:44.
 909079,0.182757
END:VEVENT
BEGIN:VTIMEZONE
TZID:Europe/Paris
X-LIC-LOCATION:Europe/Paris
BEGIN:STANDARD
DTSTART:20251026T020000
TZOFFSETFROM:+0200
TZOFFSETTO:+0100
TZNAME:CET
END:STANDARD
END:VTIMEZONE
END:VCALENDAR