BEGIN:VCALENDAR
VERSION:2.0
PRODID:-//wp-events-plugin.com//7.2.3.1//EN
TZID:Europe/Paris
X-WR-TIMEZONE:Europe/Paris
BEGIN:VEVENT
UID:9655@agenda24.fr
DTSTART;TZID=Europe/Paris:20251118T170000
DTEND;TZID=Europe/Paris:20251118T190000
DTSTAMP:20251101T090333Z
URL:https://agenda24.fr/evenements/tchatkafe/
SUMMARY:Tchat'Kafé
DESCRIPTION:Venez échanger autour d'un thème et d'un café\nLe thème d
 ’octobre : la contrainte\nDe la contrainte choisie à la contrainte par 
 corps\, de celle qui élève à celle qui\nécrase.
CATEGORIES:Rencontre / Conférence / Discussion
LOCATION:Le Chat Pline\, 47 rue Lamy\, Thiviers\, France
GEO:45.41884;0.92211871
X-APPLE-STRUCTURED-LOCATION;VALUE=URI;X-ADDRESS=47 rue Lamy\, Thiviers\, Fr
 ance;X-APPLE-RADIUS=100;X-TITLE=Le Chat Pline:geo:45.41884,0.92211871
END:VEVENT
BEGIN:VTIMEZONE
TZID:Europe/Paris
X-LIC-LOCATION:Europe/Paris
BEGIN:STANDARD
DTSTART:20251026T020000
TZOFFSETFROM:+0200
TZOFFSETTO:+0100
TZNAME:CET
END:STANDARD
END:VTIMEZONE
END:VCALENDAR