BEGIN:VCALENDAR
VERSION:2.0
PRODID:-//wp-events-plugin.com//7.2.3.1//EN
TZID:Europe/Paris
X-WR-TIMEZONE:Europe/Paris
BEGIN:VEVENT
UID:10809@agenda24.fr
DTSTART;TZID=Europe/Paris:20260307T100000
DTEND;TZID=Europe/Paris:20260307T180000
DTSTAMP:20260304T232145Z
URL:https://agenda24.fr/evenements/talents-de-femmes-salon-des-artisanes/
SUMMARY:Talents de femmes - Salon des artisanes
DESCRIPTION:Mettre en lumière les réalisation féminines dans l'artisanat
CATEGORIES:Marché / Foire / Brocante
LOCATION:Théâtre de Périgueux\, Théâtre de Périgueux\, Périgueux\, F
 rance
GEO:45.1893384;0.7152935
X-APPLE-STRUCTURED-LOCATION;VALUE=URI;X-ADDRESS=Théâtre de Périgueux\, P
 érigueux\, France;X-APPLE-RADIUS=100;X-TITLE=Théâtre de Périgueux:geo:
 45.1893384,0.7152935
END:VEVENT
BEGIN:VTIMEZONE
TZID:Europe/Paris
X-LIC-LOCATION:Europe/Paris
BEGIN:STANDARD
DTSTART:20251026T020000
TZOFFSETFROM:+0200
TZOFFSETTO:+0100
TZNAME:CET
END:STANDARD
END:VTIMEZONE
END:VCALENDAR