BEGIN:VCALENDAR
VERSION:2.0
PRODID:-//wp-events-plugin.com//7.2.3.1//EN
TZID:Europe/Paris
X-WR-TIMEZONE:Europe/Paris
BEGIN:VEVENT
UID:10208@agenda24.fr
DTSTART;TZID=Europe/Paris:20251211T110000
DTEND;TZID=Europe/Paris:20251211T150000
DTSTAMP:20251210T134244Z
URL:https://agenda24.fr/evenements/sur-les-traces-de-saint-nicolas-snack-2
 /
SUMMARY:Sur les traces de Saint-Nicolas - Snack
DESCRIPTION:Le Moulin d'Eymet vous propose de nombreuses animations et atel
 iers en décembre.\n\nAu programme de la journée :\n- Snack de la Saint-N
 icolas
CATEGORIES:Evènement à thème
LOCATION:Moulin d'Eymet\, 2 Quai de la Navigation\, Eymet\, France
GEO:44.6663491;0.39530664
X-APPLE-STRUCTURED-LOCATION;VALUE=URI;X-ADDRESS=2 Quai de la Navigation\, E
 ymet\, France;X-APPLE-RADIUS=100;X-TITLE=Moulin d'Eymet:geo:44.6663491,0.3
 9530664
END:VEVENT
BEGIN:VTIMEZONE
TZID:Europe/Paris
X-LIC-LOCATION:Europe/Paris
BEGIN:STANDARD
DTSTART:20251026T020000
TZOFFSETFROM:+0200
TZOFFSETTO:+0100
TZNAME:CET
END:STANDARD
END:VTIMEZONE
END:VCALENDAR