BEGIN:VCALENDAR
VERSION:2.0
PRODID:-//wp-events-plugin.com//7.2.3.1//EN
TZID:Europe/Paris
X-WR-TIMEZONE:Europe/Paris
BEGIN:VEVENT
UID:11820@agenda24.fr
DTSTART;TZID=Europe/Paris:20260302T160000
DTEND;TZID=Europe/Paris:20260302T170000
DTSTAMP:20260301T135206Z
URL:https://agenda24.fr/evenements/sur-les-toits-visites-guidees/
SUMMARY:Sur les toîts - Visites guidées
DESCRIPTION:La cathédrale\, protégée au titre des Monuments historiques 
 depuis 1840\, et restaurée de manière fondamentale durant toute la secon
 de moitié du XIXe siècle\, est un exemple précoce de patrimoine protég
 é et valorisé en cœur de ville. Depuis ses hauteurs\, la visite vous pe
 rmettra de découvrir un point de vue exceptionnel sur la ville ancienne\,
  secteur sauvegardé dès 1970 et désormais site patrimonial remarquable\
 , et d’observer la manière dont la ville contemporaine évolue.\n\nRés
 ervation obligatoire. À partir de 8 ans\n\nTarifs : 7/5/0 € (Gratuit po
 ur les moins de 12 ans)\n\nAttention : les visites peuvent être annulées
  en cas d’intempéries ou de canicule.\n\nD’autres créneaux de visite
 s sont possibles avec d’autres opérateurs autorisés à mener des visit
 es\, en particulier l’Office de tourisme Destination Périgueux.
CATEGORIES:Tourisme / Patrimoine
LOCATION:Place de la Clautre\, Place de la Clautre\, Périgueux\, France
GEO:45.18345;0.72175
X-APPLE-STRUCTURED-LOCATION;VALUE=URI;X-ADDRESS=Place de la Clautre\, Péri
 gueux\, France;X-APPLE-RADIUS=100;X-TITLE=Place de la Clautre:geo:45.18345
 ,0.72175
END:VEVENT
BEGIN:VTIMEZONE
TZID:Europe/Paris
X-LIC-LOCATION:Europe/Paris
BEGIN:STANDARD
DTSTART:20251026T020000
TZOFFSETFROM:+0200
TZOFFSETTO:+0100
TZNAME:CET
END:STANDARD
END:VTIMEZONE
END:VCALENDAR