BEGIN:VCALENDAR
VERSION:2.0
PRODID:-//wp-events-plugin.com//7.2.3.1//EN
TZID:Europe/Paris
X-WR-TIMEZONE:Europe/Paris
BEGIN:VEVENT
UID:11874@agenda24.fr
DTSTART;TZID=Europe/Paris:20260321T143000
DTEND;TZID=Europe/Paris:20260321T143000
DTSTAMP:20260301T135836Z
URL:https://agenda24.fr/evenements/supers-lotos/
SUMMARY:Supers lotos
DESCRIPTION:2 supers lotos 14h30 et 20h30\, buvette et restauration sur pla
 ce 
CATEGORIES:Spectacle
LOCATION:Salle des fêtes\, Salle des fêtes\, Siorac-de-Riberac\, France
GEO:45.19753;0.357139
X-APPLE-STRUCTURED-LOCATION;VALUE=URI;X-ADDRESS=Salle des fêtes\, Siorac-d
 e-Riberac\, France;X-APPLE-RADIUS=100;X-TITLE=Salle des fêtes:geo:45.1975
 3,0.357139
END:VEVENT
BEGIN:VTIMEZONE
TZID:Europe/Paris
X-LIC-LOCATION:Europe/Paris
BEGIN:STANDARD
DTSTART:20251026T020000
TZOFFSETFROM:+0200
TZOFFSETTO:+0100
TZNAME:CET
END:STANDARD
END:VTIMEZONE
END:VCALENDAR