BEGIN:VCALENDAR
VERSION:2.0
PRODID:-//wp-events-plugin.com//7.2.3.1//EN
TZID:Europe/Paris
X-WR-TIMEZONE:Europe/Paris
BEGIN:VEVENT
UID:11686@agenda24.fr
DTSTART;TZID=Europe/Paris:20260304T090000
DTEND;TZID=Europe/Paris:20260304T180000
DTSTAMP:20260301T135049Z
URL:https://agenda24.fr/evenements/stage-greffage-de-fruitiers-a-saint-mic
 hel-leparon/
SUMMARY:Stage greffage de fruitiers à Saint-Michel-Léparon
DESCRIPTION:Stage de greffage de fruitiers au Jardin de la Salamandre à Sa
 int-Michel-Léparon\nStage sur la journée\, 80€\nRenseignements et insc
 ription: 05 53 82 43 06
CATEGORIES:Atelier / Stage
LOCATION:Jardin de la Salamandre\, Jardin de la Salamandre\, La Roche-Chala
 is\, France
GEO:45.0856048;0.07229510
X-APPLE-STRUCTURED-LOCATION;VALUE=URI;X-ADDRESS=Jardin de la Salamandre\, L
 a Roche-Chalais\, France;X-APPLE-RADIUS=100;X-TITLE=Jardin de la Salamandr
 e:geo:45.0856048,0.07229510
END:VEVENT
BEGIN:VTIMEZONE
TZID:Europe/Paris
X-LIC-LOCATION:Europe/Paris
BEGIN:STANDARD
DTSTART:20251026T020000
TZOFFSETFROM:+0200
TZOFFSETTO:+0100
TZNAME:CET
END:STANDARD
END:VTIMEZONE
END:VCALENDAR