BEGIN:VCALENDAR
VERSION:2.0
PRODID:-//wp-events-plugin.com//7.2.3.1//EN
TZID:Europe/Paris
X-WR-TIMEZONE:Europe/Paris
BEGIN:VEVENT
UID:8356@agenda24.fr
DTSTART;TZID=Europe/Paris:20250927T093000
DTEND;TZID=Europe/Paris:20250927T123000
DTSTAMP:20250910T221446Z
URL:https://agenda24.fr/evenements/stage-dessin-peinture/
SUMMARY:Stage dessin-peinture
DESCRIPTION:Stage de dessin "Sanguine et drapé".\n\n3h - 55€ matériel c
 ompris - 8 personnes max - tous niveaux\n\nVous apprendrez à dessiner la 
 structure d'un drapé au crayon sanguine. Vous observerez les volumes et l
 es creux afin de retranscrire les ombres et lumières pour créer l'illusi
 on du relief\, les mouvements et la souplesse du tissu.\n\nLa sanguine off
 re un tracé doux et velouté\, elle a été mise au point par des artiste
 s de la Renaissance italienne tels que Léonard de Vinci ou Michel-Ange et
  était surtout utilisée pour réaliser des croquis pour mieux comprendre
  les formes\, ombres\, composition... Vous l'utiliserez dans ce même prin
 cipe pour dessiner des drapés que ce soit d'après modèle papier ou rée
 l.\n\nContact: Floriane Virgo - 06 67 45 73 92 - floriane.virgo@aol.fr
CATEGORIES:Atelier / Stage
LOCATION:Galerie L'APP'ART\, 10 rue Arago\, Périgueux\, 24000\, France
X-APPLE-STRUCTURED-LOCATION;VALUE=URI;X-ADDRESS=10 rue Arago\, Périgueux\,
  24000\, France;X-APPLE-RADIUS=100;X-TITLE=Galerie L'APP'ART:geo:0,0
END:VEVENT
BEGIN:VTIMEZONE
TZID:Europe/Paris
X-LIC-LOCATION:Europe/Paris
BEGIN:DAYLIGHT
DTSTART:20250330T030000
TZOFFSETFROM:+0100
TZOFFSETTO:+0200
TZNAME:CEST
END:DAYLIGHT
END:VTIMEZONE
END:VCALENDAR