BEGIN:VCALENDAR
VERSION:2.0
PRODID:-//wp-events-plugin.com//7.2.3.1//EN
TZID:Europe/Paris
X-WR-TIMEZONE:Europe/Paris
BEGIN:VEVENT
UID:11811@agenda24.fr
DTSTART;TZID=Europe/Paris:20260328T143000
DTEND;TZID=Europe/Paris:20260328T170000
DTSTAMP:20260301T134308Z
URL:https://agenda24.fr/evenements/ateliers-danse-intuitive/
SUMMARY:Ateliers danse intuitive
DESCRIPTION:Inspiré de la danse des 5 Rythmes et du Life Art Process\, je 
 vous propose un voyage dansé unique de rencontre avec soi et avec l’aut
 re au fil des différents rythmes de musique.\n\nDanser en étant ancré d
 ans son corps\, présent à ses sensations et émotions. Soutenu par l’
 énergie du groupe et par ma guidance\, chacun vit sa propre expérience i
 ntérieure dans un espace de liberté. Cette pratique invite le corps à s
 ’exprimer librement en sortant des jugements que l’on se porte parfois
 \, à le libérer de ses tensions et à retrouver la fluidité.\nLe mouvem
 ent nous réouvre au lien avec notre corps\, avec nos sensations\, avec no
 s émotions. Quand le mouvement circule dans notre corps\, il permet de d
 écharger les trop pleins\, les trop serrés\, les trop tendus et alors\, 
 il nous permet d'expérimenter plus de fluidité\, de relâchement\, de li
 berté...\n\nSur inscription préalable.
CATEGORIES:Atelier / Stage
LOCATION:Studio Association Ribambelle\, Studio Association Ribambelle\, Qu
 eyssac\, France
GEO:44.9063850;0.5487930
X-APPLE-STRUCTURED-LOCATION;VALUE=URI;X-ADDRESS=Studio Association Ribambel
 le\, Queyssac\, France;X-APPLE-RADIUS=100;X-TITLE=Studio Association Ribam
 belle:geo:44.9063850,0.5487930
END:VEVENT
BEGIN:VTIMEZONE
TZID:Europe/Paris
X-LIC-LOCATION:Europe/Paris
BEGIN:STANDARD
DTSTART:20251026T020000
TZOFFSETFROM:+0200
TZOFFSETTO:+0100
TZNAME:CET
END:STANDARD
END:VTIMEZONE
END:VCALENDAR