BEGIN:VCALENDAR
VERSION:2.0
PRODID:-//wp-events-plugin.com//7.2.3.1//EN
TZID:Europe/Paris
X-WR-TIMEZONE:Europe/Paris
BEGIN:VEVENT
UID:11699@agenda24.fr
DTSTART;TZID=Europe/Paris:20260306T160000
DTEND;TZID=Europe/Paris:20260306T183000
DTSTAMP:20260301T135041Z
URL:https://agenda24.fr/evenements/stage-de-chacha/
SUMMARY:Stage de Chacha
DESCRIPTION:Stage organisé par Passion Orchestre Fan Club 24 et animé par
  Christian Terrefon.\nApprenez les bases du chacha
CATEGORIES:Atelier / Stage
LOCATION:Salle des fêtes\, Esplanade de la Liberté\, Rouffignac-Saint-Cer
 nin-de-Reilhac\, France
GEO:45.0475411;0.97906842
X-APPLE-STRUCTURED-LOCATION;VALUE=URI;X-ADDRESS=Esplanade de la Liberté\, 
 Rouffignac-Saint-Cernin-de-Reilhac\, France;X-APPLE-RADIUS=100;X-TITLE=Sal
 le des fêtes:geo:45.0475411,0.97906842
END:VEVENT
BEGIN:VTIMEZONE
TZID:Europe/Paris
X-LIC-LOCATION:Europe/Paris
BEGIN:STANDARD
DTSTART:20251026T020000
TZOFFSETFROM:+0200
TZOFFSETTO:+0100
TZNAME:CET
END:STANDARD
END:VTIMEZONE
END:VCALENDAR