BEGIN:VCALENDAR
VERSION:2.0
PRODID:-//wp-events-plugin.com//7.2.3.1//EN
TZID:Europe/Paris
X-WR-TIMEZONE:Europe/Paris
BEGIN:VEVENT
UID:3961@agenda24.fr
DTSTART;TZID=Europe/Paris:20241207T203000
DTEND;TZID=Europe/Paris:20241207T220000
DTSTAMP:20241030T091320Z
URL:https://agenda24.fr/evenements/spectacle-volpone/
SUMMARY:Spectacle – Volpone
DESCRIPTION:
CATEGORIES:Spectacle
LOCATION:Auditorium Espace François Mitterrand\, 23 Boulevard Henri Sicard
 \, Bergerac\, France
GEO:44.8449144;0.48019150
X-APPLE-STRUCTURED-LOCATION;VALUE=URI;X-ADDRESS=23 Boulevard Henri Sicard\,
  Bergerac\, France;X-APPLE-RADIUS=100;X-TITLE=Auditorium Espace François 
 Mitterrand:geo:44.8449144,0.48019150
END:VEVENT
BEGIN:VTIMEZONE
TZID:Europe/Paris
X-LIC-LOCATION:Europe/Paris
BEGIN:STANDARD
DTSTART:20241027T020000
TZOFFSETFROM:+0200
TZOFFSETTO:+0100
TZNAME:CET
END:STANDARD
END:VTIMEZONE
END:VCALENDAR