BEGIN:VCALENDAR
VERSION:2.0
PRODID:-//wp-events-plugin.com//7.2.3.1//EN
TZID:Europe/Paris
X-WR-TIMEZONE:Europe/Paris
BEGIN:VEVENT
UID:5308@agenda24.fr
DTSTART;TZID=Europe/Paris:20250309T160000
DTEND;TZID=Europe/Paris:20250309T160000
DTSTAMP:20250213T102942Z
URL:https://agenda24.fr/evenements/spectacle-tailleur-pour-dame/
SUMMARY:Spectacle – Tailleur pour dame
DESCRIPTION:Chaque année nous avons pour habitude de célébrer cette jour
 née internationale de la femme.\n\nCette année avec une comédie: TAILLE
 UR POUR DAME  de la compagnie OXYMOR\n\n6 comédiens chevronnés interprè
 tent avec délice et malice 9 personnages tous plus cocasses et improbable
 s les uns que les autres pour un moment de comédie inoubliable\, où tous
  semblent prendre un plaisir fou à nous faire rire.\n\nDans cette nouvell
 e version de Tailleur pour Dames\, Amélie Dhée\, passionnée de comédie
  et en particulier de Feydeau\, respecte tous les codes de l'auteur chers 
 à ses fans : portes qui claquent\, mensonges\, amants\, maîtresses et qu
 iproquos inextricables\, le tout dans un décor acidulé qui nous transpor
 te à l'époque 1900.\n\nUn véritable hommage aux grandes heures du thé
 âtre de boulevard\, une mise en scène soigneusement orchestrée et une d
 irection d'acteurs au cordeau car « un gag\, une rupture\, ça se joue
CATEGORIES:Spectacle
LOCATION:Le séchoir d’Aillac\, Bourg d'Aillac\, Carsac-Aillac\, France
GEO:44.8424935;1.30124737
X-APPLE-STRUCTURED-LOCATION;VALUE=URI;X-ADDRESS=Bourg d'Aillac\, Carsac-Ail
 lac\, France;X-APPLE-RADIUS=100;X-TITLE=Le séchoir d’Aillac:geo:44.8424
 935,1.30124737
END:VEVENT
BEGIN:VTIMEZONE
TZID:Europe/Paris
X-LIC-LOCATION:Europe/Paris
BEGIN:STANDARD
DTSTART:20241027T020000
TZOFFSETFROM:+0200
TZOFFSETTO:+0100
TZNAME:CET
END:STANDARD
END:VTIMEZONE
END:VCALENDAR