BEGIN:VCALENDAR
VERSION:2.0
PRODID:-//wp-events-plugin.com//7.2.3.1//EN
TZID:Europe/Paris
X-WR-TIMEZONE:Europe/Paris
BEGIN:VEVENT
UID:4498@agenda24.fr
DTSTART;TZID=Europe/Paris:20250125T203000
DTEND;TZID=Europe/Paris:20250125T203000
DTSTAMP:20241214T154050Z
URL:https://agenda24.fr/evenements/spectacle-sophia-aram-le-monde-dapres/
SUMMARY:Spectacle - Sophia Aram\, Le monde d'après.
DESCRIPTION:
CATEGORIES:Spectacle
LOCATION:Salle des Fêtes\, Salle des Fêtes\, Saint-Andre-D'allas\, France
GEO:44.8886872;1.16552735
X-APPLE-STRUCTURED-LOCATION;VALUE=URI;X-ADDRESS=Salle des Fêtes\, Saint-An
 dre-D'allas\, France;X-APPLE-RADIUS=100;X-TITLE=Salle des Fêtes:geo:44.88
 86872,1.16552735
END:VEVENT
BEGIN:VTIMEZONE
TZID:Europe/Paris
X-LIC-LOCATION:Europe/Paris
BEGIN:STANDARD
DTSTART:20241027T020000
TZOFFSETFROM:+0200
TZOFFSETTO:+0100
TZNAME:CET
END:STANDARD
END:VTIMEZONE
END:VCALENDAR