BEGIN:VCALENDAR
VERSION:2.0
PRODID:-//wp-events-plugin.com//7.2.3.1//EN
TZID:Europe/Paris
X-WR-TIMEZONE:Europe/Paris
BEGIN:VEVENT
UID:5271@agenda24.fr
DTSTART;TZID=Europe/Paris:20250315T203000
DTEND;TZID=Europe/Paris:20250315T203000
DTSTAMP:20250213T103011Z
URL:https://agenda24.fr/evenements/spectacle-seule-en-scene-la-grande-soph
 ie/
SUMMARY:Spectacle Seule en Scène - La grande Sophie
DESCRIPTION:« La Grande Sophie »\, un spectacle hybride qui se chante et 
 se lit : de l’humour à l’émotion\, il raconte le parcours d’une ch
 anteuse qui revient sur les moments importants de sa carrière\, ses 9 alb
 ums\, ses chansons phares\, ses rencontres\, son enfance\, les périodes d
 e la vie\, ses voyages\, ses humeurs\, l’envers du décor à travers l
 ’évolution de la musique… \n\n20h30\, centre culturel\nTarifs : 24 
 € - 20 €\nSur réservation\n\nLa Fabrique 05 53 02 41 99\n\n\n\n\n\n\n
 \n
CATEGORIES:Spectacle
LOCATION:Centre culturel La Fabrique\, Rue Amiral Courbet\, Saint-Astier\, 
 France
GEO:45.1448849;0.52667700
X-APPLE-STRUCTURED-LOCATION;VALUE=URI;X-ADDRESS=Rue Amiral Courbet\, Saint-
 Astier\, France;X-APPLE-RADIUS=100;X-TITLE=Centre culturel La Fabrique:geo
 :45.1448849,0.52667700
END:VEVENT
BEGIN:VTIMEZONE
TZID:Europe/Paris
X-LIC-LOCATION:Europe/Paris
BEGIN:STANDARD
DTSTART:20241027T020000
TZOFFSETFROM:+0200
TZOFFSETTO:+0100
TZNAME:CET
END:STANDARD
END:VTIMEZONE
END:VCALENDAR