BEGIN:VCALENDAR
VERSION:2.0
PRODID:-//wp-events-plugin.com//7.2.3.1//EN
TZID:Europe/Paris
X-WR-TIMEZONE:Europe/Paris
BEGIN:VEVENT
UID:9713@agenda24.fr
DTSTART;TZID=Europe/Paris:20251130T150000
DTEND;TZID=Europe/Paris:20251130T150000
DTSTAMP:20251101T090448Z
URL:https://agenda24.fr/evenements/spectacle-paris-paname/
SUMMARY:Spectacle | Paris Paname
DESCRIPTION:Découvrez le spectacle proposé par BDL Animations Spectacles 
 et la Mairie d'Eymet ! Profitez d'une après-midi conviviale avec un beau 
 répertoire guinguette parisienne\, cabaret et chansons sur Paris-Paname !
CATEGORIES:Spectacle
LOCATION:EHPAD Fonfrède\, 4 chemin de la Canevelle\, Eymet\, France
GEO:44.6673899;0.39134125
X-APPLE-STRUCTURED-LOCATION;VALUE=URI;X-ADDRESS=4 chemin de la Canevelle\, 
 Eymet\, France;X-APPLE-RADIUS=100;X-TITLE=EHPAD Fonfrède:geo:44.6673899,0
 .39134125
END:VEVENT
BEGIN:VTIMEZONE
TZID:Europe/Paris
X-LIC-LOCATION:Europe/Paris
BEGIN:STANDARD
DTSTART:20251026T020000
TZOFFSETFROM:+0200
TZOFFSETTO:+0100
TZNAME:CET
END:STANDARD
END:VTIMEZONE
END:VCALENDAR