BEGIN:VCALENDAR
VERSION:2.0
PRODID:-//wp-events-plugin.com//7.2.3.1//EN
TZID:Europe/Paris
X-WR-TIMEZONE:Europe/Paris
BEGIN:VEVENT
UID:9737@agenda24.fr
DTSTART;TZID=Europe/Paris:20251118T200000
DTEND;TZID=Europe/Paris:20251118T200000
DTSTAMP:20251101T090451Z
URL:https://agenda24.fr/evenements/spectacle-parblex/
SUMMARY:Spectacle « parblex »
DESCRIPTION:Voilà vingt ans que Jean-Paul Lefeuvre et Didier André explor
 ent une sorte de « slow cirque » minimaliste. Ils exploitent jusqu’a
 u trognon les objets trouvés au fond de leur atelier (une planche\, une t
 ruelle\, une boule de pétanque…). \nEntre leurs mains\, ces ustensiles 
 d’apparence banale ont plus qu’une âme : ils sont complices\, partena
 ires et leur volent même parfois la vedette. Avec un jeu dépouillé\, il
 s créent un univers où l’inutilité le dispute au dérisoire\, où l
 ’absurde provoque le rire.\n\nSpectacle sans parole\, pour tout public. 
 \nDurée : 45 minutes.
CATEGORIES:Spectacle
LOCATION:Salle des fêtes\, Salle des fêtes\, Monpazier\, France
GEO:44.6849202;0.89382962
X-APPLE-STRUCTURED-LOCATION;VALUE=URI;X-ADDRESS=Salle des fêtes\, Monpazie
 r\, France;X-APPLE-RADIUS=100;X-TITLE=Salle des fêtes:geo:44.6849202,0.89
 382962
END:VEVENT
BEGIN:VTIMEZONE
TZID:Europe/Paris
X-LIC-LOCATION:Europe/Paris
BEGIN:STANDARD
DTSTART:20251026T020000
TZOFFSETFROM:+0200
TZOFFSETTO:+0100
TZNAME:CET
END:STANDARD
END:VTIMEZONE
END:VCALENDAR