BEGIN:VCALENDAR
VERSION:2.0
PRODID:-//wp-events-plugin.com//7.2.3.1//EN
TZID:Europe/Paris
X-WR-TIMEZONE:Europe/Paris
BEGIN:VEVENT
UID:5274@agenda24.fr
DTSTART;TZID=Europe/Paris:20250312T170000
DTEND;TZID=Europe/Paris:20250312T170000
DTSTAMP:20250213T103003Z
URL:https://agenda24.fr/evenements/spectacle-odyssee-pourquoi-un-arbre-est
 -une-poule/
SUMMARY:Spectacle – Odyssée - Pourquoi un arbre est une poule ?
DESCRIPTION:Quelle certitude a-t-on sur la construction du monde ? Comment 
 ça marche ? Et le début c’était quoi\, et comment ? Il était comment
  le monde avant qu’on l’appelle monde ?\nAmusons-nous avec\, nos certi
 tudes\, imaginons d’autres solutions\, les nôtres\, même absurdes\, po
 ur l’ordre des choses. Pourvu qu’on fabrique ensemble et qu’’on s
 ’amuse de l’instant où ça tombe et nous bouscule.\nPourquoi un arbre
  est une poule ? re-fabrique ce moment où apparaît le plaisir d’une da
 nse ou d’un tableau\, cet instant de la bascule où les choses se constr
 uisent\, avec des planches\, un dessin\, un tabouret\, un carton… Parce 
 que le monde est un grand théâtre que l’on apprend très tôt à regar
 der et à ordonner\, amusons-nous à construire d’autres mondes…
CATEGORIES:Spectacle
LOCATION:Théâtre Le Palace\, 15 Rue Bodin\, Périgueux\, France
GEO:45.18701;0.71707
X-APPLE-STRUCTURED-LOCATION;VALUE=URI;X-ADDRESS=15 Rue Bodin\, Périgueux\,
  France;X-APPLE-RADIUS=100;X-TITLE=Théâtre Le Palace:geo:45.18701,0.7170
 7
END:VEVENT
BEGIN:VTIMEZONE
TZID:Europe/Paris
X-LIC-LOCATION:Europe/Paris
BEGIN:STANDARD
DTSTART:20241027T020000
TZOFFSETFROM:+0200
TZOFFSETTO:+0100
TZNAME:CET
END:STANDARD
END:VTIMEZONE
END:VCALENDAR