BEGIN:VCALENDAR
VERSION:2.0
PRODID:-//wp-events-plugin.com//7.2.3.1//EN
TZID:Europe/Paris
X-WR-TIMEZONE:Europe/Paris
BEGIN:VEVENT
UID:5280@agenda24.fr
DTSTART;TZID=Europe/Paris:20250221T203000
DTEND;TZID=Europe/Paris:20250221T203000
DTSTAMP:20250213T103003Z
URL:https://agenda24.fr/evenements/spectacle-musical-griise/
SUMMARY:Spectacle  musical "Griise"
DESCRIPTION:Vendredi 21 février à La Roche-Chalais (Salle de spectacle)\n
 Spectacle musical "Griise » à 20H30. Organisé par la municipalité et 
 Simul'Act.\nRenseignements: 07.86.86.29.44\n
CATEGORIES:Spectacle
LOCATION:Salle des fêtes\, Salle des fêtes\, La Roche-Chalais\, France
GEO:45.1508681;0.01118806
X-APPLE-STRUCTURED-LOCATION;VALUE=URI;X-ADDRESS=Salle des fêtes\, La Roche
 -Chalais\, France;X-APPLE-RADIUS=100;X-TITLE=Salle des fêtes:geo:45.15086
 81,0.01118806
END:VEVENT
BEGIN:VTIMEZONE
TZID:Europe/Paris
X-LIC-LOCATION:Europe/Paris
BEGIN:STANDARD
DTSTART:20241027T020000
TZOFFSETFROM:+0200
TZOFFSETTO:+0100
TZNAME:CET
END:STANDARD
END:VTIMEZONE
END:VCALENDAR